BEGIN:VCALENDAR
VERSION:2.0
PRODID:icalendar-ruby
CALSCALE:GREGORIAN
METHOD:PUBLISH
BEGIN:VEVENT
DTSTAMP:20260425T110351Z
UID:16-2108443@cpcauburn.org
DTSTART:20261020T110000Z
DTEND:20261020T123000Z
CLASS:PUBLIC
CREATED:20260425T055628
DESCRIPTION:Study the Word and fellowship at the Tuesday Morning Men's Bibl
 e Study hosted at Jack Johnson's office building every week. 
LAST-MODIFIED:20260425T055628
LOCATION:Jack Johnson's Office Building
SUMMARY:Men's Tues. Morning Bible Study
URL;VALUE=URI:https://www.cpcauburn.org/events/mens-tues-morning-bible-stud
 y/2026-10-20
END:VEVENT
END:VCALENDAR
