BEGIN:VCALENDAR
VERSION:2.0
PRODID:icalendar-ruby
CALSCALE:GREGORIAN
METHOD:PUBLISH
BEGIN:VEVENT
DTSTAMP:20260421T072914Z
UID:16-2077963@cpcauburn.org
DTSTART:20260922T110000Z
DTEND:20260922T123000Z
CLASS:PUBLIC
CREATED:20260420T184823
DESCRIPTION:Study the Word and fellowship at the Tuesday Morning Men's Bibl
 e Study hosted at Jack Johnson's office building every week. 
LAST-MODIFIED:20260420T184823
LOCATION:Jack Johnson's Office Building
SUMMARY:Men's Tues. Morning Bible Study
URL;VALUE=URI:https://www.cpcauburn.org/events/mens-tues-morning-bible-stud
 y/2026-09-22
END:VEVENT
END:VCALENDAR
