BEGIN:VCALENDAR
VERSION:2.0
PRODID:icalendar-ruby
CALSCALE:GREGORIAN
METHOD:PUBLISH
BEGIN:VEVENT
DTSTAMP:20260420T174742Z
UID:15-2074011@cpcauburn.org
DTSTART:20261001T113000Z
DTEND:20261001T123000Z
CLASS:PUBLIC
CREATED:20260420T110302
DESCRIPTION:Study the Word and fellowship at the Thursday Morning Men's Bib
 le Study hosted at Covenant. 
LAST-MODIFIED:20260420T110302
LOCATION:Fellowship Hall
SUMMARY:Men's Thrs. Morning Bible Study
URL;VALUE=URI:https://www.cpcauburn.org/events/mens-thrs-morning-bible-stud
 y/2026-10-01
END:VEVENT
END:VCALENDAR
